BEGIN:VCALENDAR
VERSION:2.0
PRODID:-//eventon.com NONSGML v1.0//EN
CALSCALE:GREGORIAN
METHOD:PUBLISH
BEGIN:VEVENT
UID:69e6344237fcb
DTSTAMP:20260420T141218Z
DTSTART:20230928T210000Z
DTEND:20230928T223000Z
LOCATION:
SUMMARY:Mental Health workshop: Anger management
DESCRIPTION:Lcation: 21 Dunlop St\,  Richmond Hill\,  ON L4C 2M6\nhttps://c
 csyr.org/events/mental-health-workshop-anger-management/
URL:https://ccsyr.org/events/mental-health-workshop-anger-management/
END:VEVENT
END:VCALENDAR