BEGIN:VCALENDAR
VERSION:2.0
PRODID:-//eventon.com NONSGML v1.0//EN
CALSCALE:GREGORIAN
METHOD:PUBLISH
BEGIN:VEVENT
UID:69ec96ce357aa
DTSTAMP:20260425T102622Z
DTSTART:20230720T220000Z
DTEND:20230720T233000Z
LOCATION:
SUMMARY:Newcomers Autism Project
DESCRIPTION:Location: Milliken Mills Library\,  7600 Kennedy Rd #1\,  Markh
 am\,  ON L3R 9S5\,  Canada Map:&nbsp;https://goo.gl/maps/BysGzZKF9mX5EyYAA\
 nhttps://ccsyr.org/events/newcomers-autism-project/
URL:https://ccsyr.org/events/newcomers-autism-project/
END:VEVENT
END:VCALENDAR