BEGIN:VCALENDAR
VERSION:2.0
PRODID:-//eventon.com NONSGML v1.0//EN
CALSCALE:GREGORIAN
METHOD:PUBLISH
BEGIN:VEVENT
UID:69e53f3ea1072
DTSTAMP:20260419T204654Z
DTSTART:20230914T143000Z
DTEND:20230914T173000Z
LOCATION:
SUMMARY:Walk-in Counselling at Aaniin Library
DESCRIPTION:Aaniin LibraryLocation: 5665 14th Ave\,  Markham\,  ON L3S 3K5h
 ttps://goo.gl/maps/x2xiPPfvJ2jFo7T27Language: English\,  Cantonese\,  Manda
 rin The focus of your walk-In will be on creating a short-term plan that wi
 ll make a difference for you right away – using the strengths\,  resource
 s\,  and supports you have right now. Pop-up Walk-in Clinic service is now[
 ..]\nhttps://ccsyr.org/events/walk-in-counselling-at-aaniin-library-3/
URL:https://ccsyr.org/events/walk-in-counselling-at-aaniin-library-3/
END:VEVENT
END:VCALENDAR