BEGIN:VCALENDAR
VERSION:2.0
PRODID:-//eventon.com NONSGML v1.0//EN
CALSCALE:GREGORIAN
METHOD:PUBLISH
BEGIN:VEVENT
UID:69e5f8a99f5aa
DTSTAMP:20260420T095801Z
DTSTART:20230710T230000Z
DTEND:20230711T003000Z
LOCATION:
SUMMARY:ESL Cafe (VPL)(In-person)
DESCRIPTION:Practice your English and meet new friends by joining this in-p
 erson ESL Cafe for newcomers and practice your English language skills in a
 n informal environment with local adult volunteers. In Collaboration with V
 aughan Public Libraries. Location: Dufferin Clark Library\,  Thornhill\,  M
 ap:&nbsp;&nbsp;https://goo.gl/maps/DRa5irE14wmiRSuc6 Time: Monday\,  7-8:30
  pm To register\,  email: LSP@CCSYR.ORG Text[..]\nhttps://ccsyr.org/events/
 esl-cafe-vpl/
URL:https://ccsyr.org/events/esl-cafe-vpl/
END:VEVENT
END:VCALENDAR