BEGIN:VCALENDAR
VERSION:2.0
PRODID:-//eventon.com NONSGML v1.0//EN
CALSCALE:GREGORIAN
METHOD:PUBLISH
BEGIN:VEVENT
UID:69e7fea077b03
DTSTAMP:20260421T224800Z
DTSTART:20260507T220000Z
DTEND:20260507T233000Z
LOCATION:
SUMMARY:From Global to Local: A Roadmap to Become a Nurse in Ontario
DESCRIPTION:Are you looking to build your nursing career in Ontario? Join o
 ur free information session to learn about: Nursing landscape in Ontario: R
 N vs. RPN Navigating the registration and licensing process What’s new in
  IEN pathways Language: English\nhttps://ccsyr.org/events/1207/
URL:https://ccsyr.org/events/1207/
END:VEVENT
END:VCALENDAR