BEGIN:VCALENDAR
VERSION:2.0
PRODID:-//eventon.com NONSGML v1.0//EN
CALSCALE:GREGORIAN
METHOD:PUBLISH
BEGIN:VEVENT
UID:69e82d766445a
DTSTAMP:20260422T020750Z
DTSTART:20260326T200000Z
DTEND:20260326T220000Z
LOCATION:Richmond Hill High School Richmond Hill High School
SUMMARY:Bring Your Cultures: Drop-in Youth Dinner Club
DESCRIPTION:• Social\,  educational\,  and recreational program for youth
  • Enhance cultural integration of the newcomer students • Access to co
 mmunity services resources • Parents’ engagement in education Event Lan
 guage: English Event Location: Richmond Hill High School\,  Room 1014 📄\
 nhttps://ccsyr.org/events/983/var/ri-4.l-L1
URL:https://ccsyr.org/events/983/var/ri-4.l-L1
END:VEVENT
END:VCALENDAR