BEGIN:VCALENDAR
VERSION:2.0
PRODID:-//eventon.com NONSGML v1.0//EN
CALSCALE:GREGORIAN
METHOD:PUBLISH
BEGIN:VEVENT
UID:69e6182238afd
DTSTAMP:20260420T121218Z
DTSTART:20250922T160000Z
DTEND:20250922T180000Z
LOCATION:York Region Centre for Community Safety Suite 107\,  25 Deverill Court Markham\,  ON\,  L6G 0C7
SUMMARY:Sew to Success
DESCRIPTION:Join our free\,  hands-on sewing workshop designed for women wh
 o want to learn basic clothing alteration and repair techniques. Whether yo
 u&#8217;re a total beginner or looking to refresh your skills\,  this works
 hop is for you! What You’ll Learn: Hemming pants and skirts Fixing seams 
 and holes Replacing buttons and zippers[..]\nhttps://ccsyr.org/events/903/v
 ar/ri-2.l-L1
URL:https://ccsyr.org/events/903/var/ri-2.l-L1
END:VEVENT
END:VCALENDAR