BEGIN:VCALENDAR
VERSION:2.0
PRODID:-//eventon.com NONSGML v1.0//EN
CALSCALE:GREGORIAN
METHOD:PUBLISH
BEGIN:VEVENT
UID:69e60825a46da
DTSTAMP:20260420T110405Z
DTSTART:20260227T190000Z
DTEND:20260227T200000Z
LOCATION:CCSYR Headquarter at 50 High Tech Road 50 High Tech Rd\,  Richmond Hill\,  ON L4B 4N7
SUMMARY:Our Employment Workshops
DESCRIPTION:Learn proven strategies and practical tips to increase your cha
 nces of getting hired. Event Language: English Attendance Method: Hybrid (I
 n-person at 50 High Tech\,  and for online sessions link will be provided b
 y email) *This online event uses the Microsoft Teams platform\,  the link w
 ill be provided by email\,   to[..]\nhttps://ccsyr.org/events/815/var/ri-3
 8.l-L1
URL:https://ccsyr.org/events/815/var/ri-38.l-L1
END:VEVENT
END:VCALENDAR