BEGIN:VCALENDAR
VERSION:2.0
PRODID:-//eventon.com NONSGML v1.0//EN
CALSCALE:GREGORIAN
METHOD:PUBLISH
BEGIN:VEVENT
UID:69e5e2fc3f28d
DTSTAMP:20260420T082532Z
DTSTART:20260217T233000Z
DTEND:20260218T013000Z
LOCATION:
SUMMARY:Online French Conversation Circle
DESCRIPTION:Looking for an opportunity to practice your conversational skil
 ls in French? Join our friendly conversation groups to improve your speakin
 g skills and make new friends: from the comfort of your home or anywhere wi
 th internet access live practice with a volunteer in a small group sharing 
 your experience and learning[..]\nhttps://ccsyr.org/events/679/var/ri-41.l-
 L1
URL:https://ccsyr.org/events/679/var/ri-41.l-L1
END:VEVENT
END:VCALENDAR