BEGIN:VCALENDAR
VERSION:2.0
PRODID:-//eventon.com NONSGML v1.0//EN
CALSCALE:GREGORIAN
METHOD:PUBLISH
BEGIN:VEVENT
UID:69ed81d74b5e4
DTSTAMP:20260426T030911Z
DTSTART:20250204T153000Z
DTEND:20250204T170000Z
LOCATION:Newmarket Public Library 438 Park Ave\,  Newmarket\,  ON L3Y 1W1
SUMMARY:English Conversation Circle
DESCRIPTION:Join our English Conversation Circle\,  where you can practice
  speaking\,  build confidence\,  and make new friends! Here’s what you ca
 n expect: Interactive Discussions: Engage in fun and casual conversations o
 n everyday topics. Supportive Environment: Our group is open to all levels 
 of English learners. Practical Skills: Improve your vocabulary\,  pronuncia
 tion\,  and[..]\nhttps://ccsyr.org/events/593/var/ri-2.l-L1
URL:https://ccsyr.org/events/593/var/ri-2.l-L1
END:VEVENT
END:VCALENDAR