BEGIN:VCALENDAR
VERSION:2.0
PRODID:-//eventon.com NONSGML v1.0//EN
CALSCALE:GREGORIAN
METHOD:PUBLISH
BEGIN:VEVENT
UID:69ed9072bae59
DTSTAMP:20260426T041130Z
DTSTART:20250114T153000Z
DTEND:20250114T170000Z
LOCATION:Newmarket Public Library 438 Park Ave\,  Newmarket\,  ON L3Y 1W1
SUMMARY:English Conversation Circle
DESCRIPTION:Join our English Conversation Circle\,  where you can practice
  speaking\,  build confidence\,  and make new friends! Here’s what you ca
 n expect: Interactive Discussions: Engage in fun and casual conversations o
 n everyday topics. Supportive Environment: Our group is open to all levels 
 of English learners. Practical Skills: Improve your vocabulary\,  pronuncia
 tion\,  and[..]\nhttps://ccsyr.org/events/593/
URL:https://ccsyr.org/events/593/
END:VEVENT
END:VCALENDAR