BEGIN:VCALENDAR
VERSION:2.0
PRODID:-//eventon.com NONSGML v1.0//EN
CALSCALE:GREGORIAN
METHOD:PUBLISH
BEGIN:VEVENT
UID:69e5e49166acb
DTSTAMP:20260420T083217Z
DTSTART:20250129T230000Z
DTEND:20250130T003000Z
LOCATION:CCSYR Headquarter at 50 High Tech Road 50 High Tech Rd\,  Richmond Hill\,  ON L4B 4N7
SUMMARY:Art Cafe
DESCRIPTION:Come join us every week for free Art and Music sessions where y
 ou can practice English\,  explore art\,  and enjoy music in a friendly and
  relaxing space. All are welcome! Event Language: English Attendance Method
 : In-Person\nhttps://ccsyr.org/events/526/var/ri-7.l-L1
URL:https://ccsyr.org/events/526/var/ri-7.l-L1
END:VEVENT
END:VCALENDAR