BEGIN:VCALENDAR
VERSION:2.0
PRODID:-//eventon.com NONSGML v1.0//EN
CALSCALE:GREGORIAN
METHOD:PUBLISH
BEGIN:VEVENT
UID:69e4cff4e3718
DTSTAMP:20260419T125204Z
DTSTART:20250128T200000Z
DTEND:20250128T213000Z
LOCATION:CCSYR Headquarter at 50 High Tech Road 50 High Tech Rd\,  Richmond Hill\,  ON L4B 4N7
SUMMARY:Music Cafe
DESCRIPTION:Come join us every week for free Art and Music sessions where y
 ou can practice English\,  explore art\,  and enjoy music in a friendly and
  relaxing space. All are welcome! Event Language: English Attendance Method
 : In-Person\nhttps://ccsyr.org/events/525/var/ri-7.l-L1
URL:https://ccsyr.org/events/525/var/ri-7.l-L1
END:VEVENT
END:VCALENDAR