BEGIN:VCALENDAR
VERSION:2.0
PRODID:-//eventon.com NONSGML v1.0//EN
CALSCALE:GREGORIAN
METHOD:PUBLISH
BEGIN:VEVENT
UID:69e9db8c6167a
DTSTAMP:20260423T084252Z
DTSTART:20241126T200000Z
DTEND:20241126T213000Z
LOCATION:CCSYR Headquarter at 50 High Tech Road 50 High Tech Rd\,  Richmond Hill\,  ON L4B 4N7
SUMMARY:Music Cafe
DESCRIPTION:Come join us every week for free Art and Music sessions where y
 ou can practice English\,  explore art\,  and enjoy music in a friendly and
  relaxing space. All are welcome! Event Language: English Attendance Method
 : In-Person\nhttps://ccsyr.org/events/525/
URL:https://ccsyr.org/events/525/
END:VEVENT
END:VCALENDAR