BEGIN:VCALENDAR
VERSION:2.0
PRODID:-//eventon.com NONSGML v1.0//EN
CALSCALE:GREGORIAN
METHOD:PUBLISH
BEGIN:VEVENT
UID:69ed16db2e7b1
DTSTAMP:20260425T193243Z
DTSTART:20240620T140000Z
DTEND:20240620T153000Z
LOCATION:
SUMMARY:CRA info Session for Seniors: Understanding Benefits\,  Credits\,  and Taxes
DESCRIPTION:Are you 65 years and older? Filing your taxes can unlock the be
 nefits and credits you may be eligible for. Join our session to learn about
  tax filing process and available benefits and credits for seniors\,  inclu
 ding Goods and services tax/harmonized sales tax (GST/HST) credit\,  Age am
 ount\,  Pension income splitting\, [..]\nhttps://ccsyr.org/events/cra-info-
 session-for-seniors-understanding-benefits-credits-and-taxes/
URL:https://ccsyr.org/events/cra-info-session-for-seniors-understanding-benefits-credits-and-taxes/
END:VEVENT
END:VCALENDAR