BEGIN:VCALENDAR
VERSION:2.0
PRODID:-//eventon.com NONSGML v1.0//EN
CALSCALE:GREGORIAN
METHOD:PUBLISH
BEGIN:VEVENT
UID:69ea6b1d79f61
DTSTAMP:20260423T185525Z
DTSTART:20240123T000000Z
DTEND:20240123T013000Z
LOCATION:
SUMMARY:Know Your Rights
DESCRIPTION:&#8220;Can I be fired for taking a sick day?&#8221;\,  &#8220;I
 s my employer allowed to stop me from taking breaks?&#8221;\,  &#8220;Can I
  work and be paid in cash?&#8221; Join the session and have your questions 
 answered. Presented by staff lawyer from Community Legal Clinic of York Reg
 ion. Topics covered include: &#8211;[..]\nhttps://ccsyr.org/events/know-you
 r-rights/
URL:https://ccsyr.org/events/know-your-rights/
END:VEVENT
END:VCALENDAR