BEGIN:VCALENDAR
VERSION:2.0
PRODID:-//eventon.com NONSGML v1.0//EN
CALSCALE:GREGORIAN
METHOD:PUBLISH
BEGIN:VEVENT
UID:69ec2504a29f8
DTSTAMP:20260425T022052Z
DTSTART:20240110T230000Z
DTEND:20240111T003000Z
LOCATION:Richvale Branch (Richmond Hill Public Library) 40 Pearson Ave\,  Richmond Hill\,  ON L4C 6T7
SUMMARY:English Conversation Circle - ECC
DESCRIPTION:The conversation circles are designed to help improve your lang
 uage skills\,  boost your confidence\,  and provide opportunities to connec
 t with new people. Event Language: English Event Location: Richvale Branch 
 (Richmond Hill Public Library) Organizer&#8217;s Email: cel@ccsyr.org\nhttp
 s://ccsyr.org/events/english-conversation-circle-ecc/
URL:https://ccsyr.org/events/english-conversation-circle-ecc/
END:VEVENT
END:VCALENDAR