BEGIN:VCALENDAR
VERSION:2.0
PRODID:-//eventon.com NONSGML v1.0//EN
CALSCALE:GREGORIAN
METHOD:PUBLISH
BEGIN:VEVENT
UID:69e61d154e70c
DTSTAMP:20260420T123325Z
DTSTART:20231118T150000Z
DTEND:20231118T160000Z
LOCATION:
SUMMARY:Learn How to Use Brainfuse Job Now
DESCRIPTION:Are you looking for a job and need professional job coaching? J
 oin us to learn how the library gives you access to Brainfuse JobNow where 
 you can: Get free live job coaching Get real-time interview practice Use th
 e full-service resume lab Get 24/7 access to local job resources And more&#
 8230;[..]\nhttps://ccsyr.org/events/learn-how-to-use-brainfuse-job-now/
URL:https://ccsyr.org/events/learn-how-to-use-brainfuse-job-now/
END:VEVENT
END:VCALENDAR