BEGIN:VCALENDAR
VERSION:2.0
PRODID:-//eventon.com NONSGML v1.0//EN
CALSCALE:GREGORIAN
METHOD:PUBLISH
BEGIN:VEVENT
UID:69e5484f68f1d
DTSTAMP:20260419T212535Z
DTSTART:20231028T130000Z
DTEND:20231028T163000Z
LOCATION:
SUMMARY:Reinforcement and Its Impact on Behaviour in Autism
DESCRIPTION:Workshop and Support Group For Newcomers with family members wi
 th ASD First session from 9-10:30 a.m. is Virtual https://docs.google.com/f
 orms/d/e/1FAIpQLSd3LZuMmHm64jDmJeh7UXz39fV5mM9SPJP0PX_9vkhKl47vnQ/viewform?
 usp=pp_url Second session;  In-person\,  from 10:30-12:30 p.m. Location: 
  Stronach Aurora Recreation Complex. 1400 Wellington St E Aurora\,  1400 We
 llington Street East\,  Aurora\,  L4G7B6. https://maps.app.goo.gl/AQr2KRsFa
 KfWVBfz8\nhttps://ccsyr.org/events/reinforcement-and-its-impact-on-behaviou
 r-in-autism/
URL:https://ccsyr.org/events/reinforcement-and-its-impact-on-behaviour-in-autism/
END:VEVENT
END:VCALENDAR