BEGIN:VCALENDAR
VERSION:2.0
PRODID:-//eventon.com NONSGML v1.0//EN
CALSCALE:GREGORIAN
METHOD:PUBLISH
BEGIN:VEVENT
UID:69e7a07932297
DTSTAMP:20260421T160617Z
DTSTART:20231004T183000Z
DTEND:20231004T203000Z
LOCATION:
SUMMARY:ENGLISH CONVERSATION CIRCLE AT South MARKHAM
DESCRIPTION:https://maps.app.goo.gl/no1Eko6NHuFN4bbb6 &nbsp;\nhttps://ccsyr
 .org/events/english-conversation-circle-at-south-markham/
URL:https://ccsyr.org/events/english-conversation-circle-at-south-markham/
END:VEVENT
END:VCALENDAR