BEGIN:VCALENDAR
VERSION:2.0
PRODID:-//eventon.com NONSGML v1.0//EN
CALSCALE:GREGORIAN
METHOD:PUBLISH
BEGIN:VEVENT
UID:69eb26eded57f
DTSTAMP:20260424T081645Z
DTSTART:20231024T213000Z
DTEND:20231024T233000Z
LOCATION:
SUMMARY:ENGLISH CONVERSATION CIRCLE AT NEWMARKET WELCOME CENTRE
DESCRIPTION:This conversation circle is for newcomers to learn how to feel 
 confident speaking English on a daily basis.  You will practice speaking E
 nglish and improve your English conversation skills while learning about Ca
 nadian culture and meeting new friends in an  encouraging\,  welcoming and
  comfortable space https://maps.app.goo.gl/vru46cSHQnUrv3xGA\nhttps://ccsyr
 .org/events/english-conversation-circle-at-newmarket-welcome-centre-4/var/r
 i-2.l-L1
URL:https://ccsyr.org/events/english-conversation-circle-at-newmarket-welcome-centre-4/var/ri-2.l-L1
END:VEVENT
END:VCALENDAR