BEGIN:VCALENDAR
VERSION:2.0
PRODID:-//eventon.com NONSGML v1.0//EN
CALSCALE:GREGORIAN
METHOD:PUBLISH
BEGIN:VEVENT
UID:69eb7bb422b80
DTSTAMP:20260424T141828Z
DTSTART:20231025T140000Z
DTEND:20231025T153000Z
LOCATION:
SUMMARY:Family Sponsorship 101
DESCRIPTION:This presentation will cover general information about family s
 ponsorship applications\,  including who can be a sponsor and who can be sp
 onsored. The speaker will answer frequently asked family sponsorship questi
 ons. Presented by Community Legal Clinic of York Region https://us06web.zoo
 m.us/meeting/register/tZErde2urzgrGNFGQ_BpLpm-33hpozaR63gW\nhttps://ccsyr.o
 rg/events/family-sponsorship-101/
URL:https://ccsyr.org/events/family-sponsorship-101/
END:VEVENT
END:VCALENDAR